BEGIN:VCALENDAR
VERSION:2.0
PRODID:-//MK Highlanders - ECPv4.6.22//NONSGML v1.0//EN
CALSCALE:GREGORIAN
METHOD:PUBLISH
X-WR-CALNAME:MK Highlanders
X-ORIGINAL-URL:https://mkhighlanders.com
X-WR-CALDESC:Events for MK Highlanders
BEGIN:VEVENT
DTSTART;TZID=UTC+0:20181030T160000
DTEND;TZID=UTC+0:20181101T060000
DTSTAMP:20260420T092509
CREATED:20181027T160140Z
LAST-MODIFIED:20181027T181336Z
UID:3756-1540915200-1541052000@mkhighlanders.com
SUMMARY:Halloween Party 30./31.10.2018
DESCRIPTION:30.10. UTORAK od 16:00\nRadionica i druženje za velike i male! Dođite sa djecom\, ponesite bundevu (ako imate)\, rezbariti ćemo\, crtati i ukrašavati!! \n31.10 SRIJEDA od 17:00 do 20:00\nDJEČJI HALLOWEEN PARTY\nDovedite vaše najmlađe na ludu kostimiranu zabavu!!\nOd 20:00 do ….. nastavljamo sa zabavom. MASKIRANI ILI NE SVI STE DOBRODOŠLI!! \n
URL:https://mkhighlanders.com/event/halloween-party-31-10-2018/
ATTACH;FMTTYPE=image/jpeg:https://mkhighlanders.com/wp-content/uploads/2018/10/44506647_452055618650650_7476231486039916544_n.jpg
END:VEVENT
END:VCALENDAR