BEGIN:VCALENDAR
VERSION:2.0
PRODID:-//MK Highlanders - ECPv4.6.22//NONSGML v1.0//EN
CALSCALE:GREGORIAN
METHOD:PUBLISH
X-WR-CALNAME:MK Highlanders
X-ORIGINAL-URL:https://mkhighlanders.com
X-WR-CALDESC:Events for MK Highlanders
BEGIN:VEVENT
DTSTART;VALUE=DATE:20180531
DTEND;VALUE=DATE:20180603
DTSTAMP:20260420T074407
CREATED:20181121T120301Z
LAST-MODIFIED:20181121T120415Z
UID:3767-1527724800-1527983999@mkhighlanders.com
SUMMARY:BIKE & ROCK DAYS 2018
DESCRIPTION:
URL:https://mkhighlanders.com/event/bike-rock-days-2018/
LOCATION:Nova Vas\, Nova Vas\, 52446\, Croatia (Local Name: Hrvatska)
ATTACH;FMTTYPE=image/jpeg:https://mkhighlanders.com/wp-content/uploads/2018/11/33573397_1741978209214664_1839024340956348416_n.jpg
END:VEVENT
END:VCALENDAR