BEGIN:VCALENDAR
VERSION:2.0
PRODID:-//MK Highlanders - ECPv4.6.22//NONSGML v1.0//EN
CALSCALE:GREGORIAN
METHOD:PUBLISH
X-WR-CALNAME:MK Highlanders
X-ORIGINAL-URL:https://mkhighlanders.com
X-WR-CALDESC:Events for MK Highlanders
BEGIN:VEVENT
DTSTART;VALUE=DATE:20200313
DTEND;VALUE=DATE:20200315
DTSTAMP:20260420T025137
CREATED:20200308T190853Z
LAST-MODIFIED:20200309T180514Z
UID:4402-1584057600-1584230399@mkhighlanders.com
SUMMARY:16th Winter Party - OTKAZANO :(
DESCRIPTION:Nažalost OTKAZANO 🙁 \n
URL:https://mkhighlanders.com/event/16th-winter-party/
ATTACH;FMTTYPE=image/jpeg:https://mkhighlanders.com/wp-content/uploads/2020/03/Highlanders-winter-party-2020-Flyer-c-otkazano.jpg
END:VEVENT
END:VCALENDAR